BEGIN:VCALENDAR
VERSION:2.0
PRODID:-//Binaytara Foundation Cancer Center, Janakpur, Nepal - ECPv6.0.6//NONSGML v1.0//EN
CALSCALE:GREGORIAN
METHOD:PUBLISH
X-ORIGINAL-URL:https://cancer.binaytara.org
X-WR-CALDESC:Events for Binaytara Foundation Cancer Center, Janakpur, Nepal
REFRESH-INTERVAL;VALUE=DURATION:PT1H
X-Robots-Tag:noindex
X-PUBLISHED-TTL:PT1H
BEGIN:VTIMEZONE
TZID:Asia/Kathmandu
BEGIN:STANDARD
TZOFFSETFROM:+0545
TZOFFSETTO:+0545
TZNAME:+0545
DTSTART:20210101T000000
END:STANDARD
END:VTIMEZONE
BEGIN:VEVENT
DTSTART;TZID=Asia/Kathmandu:20211201T090000
DTEND;TZID=Asia/Kathmandu:20211201T110000
DTSTAMP:20260420T101103
CREATED:20211109T191835Z
LAST-MODIFIED:20231028T152809Z
UID:2712-1638349200-1638356400@cancer.binaytara.org
SUMMARY:CIM or Chemotherapy-induced Cardiotoxicity
DESCRIPTION:Presenter – Dr. Rameshwar MahasethVenue – Binaytara Foundation Cancer Center Conference HallAll the oncologists\, doctors\, nurses\, pharmacists\, radiologists are invited to join the CPD activity.
URL:https://cancer.binaytara.org/event/cme/
CATEGORIES:CME (Education)
END:VEVENT
END:VCALENDAR