BEGIN:VCALENDAR
VERSION:2.0
PRODID:-//Binaytara Foundation Cancer Center, Janakpur, Nepal - ECPv6.0.6//NONSGML v1.0//EN
CALSCALE:GREGORIAN
METHOD:PUBLISH
X-WR-CALNAME:Binaytara Foundation Cancer Center, Janakpur, Nepal
X-ORIGINAL-URL:https://cancer.binaytara.org
X-WR-CALDESC:Events for Binaytara Foundation Cancer Center, Janakpur, Nepal
REFRESH-INTERVAL;VALUE=DURATION:PT1H
X-Robots-Tag:noindex
X-PUBLISHED-TTL:PT1H
BEGIN:VTIMEZONE
TZID:Asia/Kathmandu
BEGIN:STANDARD
TZOFFSETFROM:+0545
TZOFFSETTO:+0545
TZNAME:+0545
DTSTART:20210101T000000
END:STANDARD
END:VTIMEZONE
BEGIN:VEVENT
DTSTART;TZID=Asia/Kathmandu:20211115T110000
DTEND;TZID=Asia/Kathmandu:20211115T130000
DTSTAMP:20260420T115004
CREATED:20211111T035630Z
LAST-MODIFIED:20211111T081156Z
UID:2728-1636974000-1636981200@cancer.binaytara.org
SUMMARY:वसहिया मा निःशुल्क स्वास्थ्य परिक्षण
DESCRIPTION:वसहिया स्वास्थ्य चौकी\, वडा न २४ मा  हप्ताको दुई दिन वरिष्ठ क्यान्सर विशेषज्ञ तथा अन्य स्वास्थ्यकर्मी द्वारा निःशुल्क स्वास्थ्य परिक्षण  हुन गइरहेको छ।स्वास्थ्य परिक्षण\, स्वास्थ्य परामर्श लिई लाभान्वित हुनुहोस्।
URL:https://cancer.binaytara.org/event/health-camp-basahiya/
LOCATION:वसहिया स्वास्थ्य चौकी\, वडा न २४
CATEGORIES:Health Camps
END:VEVENT
END:VCALENDAR